BEGIN:VCALENDAR
VERSION:2.0
CALSCALE:GREGORIAN
PRODID:-//Diputació de Barcelona//DibaCMS//EN
BEGIN:VEVENT
UID:3476
DTSTAMP:20260423T040926
DTSTART:20220928T110000
DTEND:20230927T000000
SUMMARY:Les JEP 2022 incorporen una nova activitat a Dosrius: la xerrada “La masia catalana: història i realitat”
LOCATION:
METHOD:PUBLISH
X-WR-CALNAME:dosrius@dosrius.cat
X-WR-TIMEZONE:Europe/Madrid
DESCRIPTION:La conferència tindrà lloc diumenge 9 d’octubre i per a participar-hi cal inscriure’s prèviament a enc@pangea.org o al 93 795 54 05.

URI:https://www.dosrius.cat/actualitat/noticies/les-jep-2022-incorporen-una-nova-activitat-a-dosrius-la-xerrada-la-masia-catalana-historia-i-realitat.html
CLASS:PUBLIC
END:VEVENT
END:VCALENDAR
