BEGIN:VCALENDAR
VERSION:2.0
CALSCALE:GREGORIAN
PRODID:-//Diputació de Barcelona//DibaCMS//EN
BEGIN:VEVENT
UID:3472
DTSTAMP:20260423T002718
DTSTART:20221102T080000
DTEND:20480926T000000
SUMMARY:Amb els Localets ens n’anem de sortida al poble nadalenc de Port-Barcarès
LOCATION:
METHOD:PUBLISH
X-WR-CALNAME:dosrius@dosrius.cat
X-WR-TIMEZONE:Europe/Madrid
DESCRIPTION:L’activitat tindrà lloc el 14 de desembre i per a participar-hi cal inscriure’s prèviament trucant al telèfon 93 791 80 14.

URI:https://www.dosrius.cat/actualitat/noticies/amb-els-localets-ens-nanem-de-sortida-al-poble-nadalenc-de-port-barcares.html
CLASS:PUBLIC
END:VEVENT
END:VCALENDAR
