BEGIN:VCALENDAR
VERSION:2.0
CALSCALE:GREGORIAN
PRODID:-//Diputació de Barcelona//DibaCMS//EN
BEGIN:VEVENT
UID:3467
DTSTAMP:20260423T042139
DTSTART:20220920T130000
DTEND:20481003T230000
SUMMARY:El Tinell de Can Bosc del Far, protagonista de les Jornades Europees de Patrimoni 2022
LOCATION:
METHOD:PUBLISH
X-WR-CALNAME:dosrius@dosrius.cat
X-WR-TIMEZONE:Europe/Madrid
DESCRIPTION:Dissabte 8 d’octubre l’Ajuntament organitzarà una visita al Museu del Disseny de Barcelona. Per a participar-hi cal inscriure’s prèviament abans del 30 de setembre al 93 791 80 14 o a arxiu@dosrius.cat.

URI:https://www.dosrius.cat/actualitat/noticies/el-tinell-de-can-bosc-del-far-protagonista-de-les-jornades-europees-de-patrimoni-2022.html
CLASS:PUBLIC
END:VEVENT
END:VCALENDAR
