BEGIN:VCALENDAR
VERSION:2.0
CALSCALE:GREGORIAN
PRODID:-//Diputació de Barcelona//DibaCMS//EN
BEGIN:VEVENT
UID:3461
DTSTAMP:20260423T022653
DTSTART:20220914T080000
DTEND:20480926T000000
SUMMARY:L’Arxiu Municipal continua la tasca de restauració de documents 
LOCATION:
METHOD:PUBLISH
X-WR-CALNAME:dosrius@dosrius.cat
X-WR-TIMEZONE:Europe/Madrid
DESCRIPTION:En aquesta ocasió s’han restaurat quatre llibres-registre d’instàncies de llicències d’obres.

URI:https://www.dosrius.cat/actualitat/noticies/larxiu-municipal-continua-la-tasca-de-restauracio-de-documents-.html
CLASS:PUBLIC
END:VEVENT
END:VCALENDAR
