BEGIN:VCALENDAR
VERSION:2.0
CALSCALE:GREGORIAN
PRODID:-//Diputació de Barcelona//DibaCMS//EN
BEGIN:VEVENT
UID:3440
DTSTAMP:20260423T043300
DTSTART:20220911T000000
DTEND:20480918T000000
SUMMARY:La Diada Nacional de Catalunya se celebra a Dosrius
LOCATION:
METHOD:PUBLISH
X-WR-CALNAME:dosrius@dosrius.cat
X-WR-TIMEZONE:Europe/Madrid
DESCRIPTION:Aquest diumenge 11 de setembre s’ha dut a terme la tradicional ofrena floral i els parlaments públics.

URI:https://www.dosrius.cat/actualitat/noticies/la-diada-nacional-de-catalunya-se-celebra-a-dosrius.html
CLASS:PUBLIC
END:VEVENT
END:VCALENDAR
