BEGIN:VCALENDAR
VERSION:2.0
CALSCALE:GREGORIAN
PRODID:-//Diputació de Barcelona//DibaCMS//EN
BEGIN:VEVENT
UID:3437
DTSTAMP:20260423T080945
DTSTART:20220908T000000
DTEND:20230908T000000
SUMMARY:Dosrius commemora la Diada Nacional de Catalunya
LOCATION:
METHOD:PUBLISH
X-WR-CALNAME:dosrius@dosrius.cat
X-WR-TIMEZONE:Europe/Madrid
DESCRIPTION:Diumenge 11 de setembre se celebrarà la tradicional ofrena floral i els parlaments públics.

URI:https://www.dosrius.cat/actualitat/noticies/3437-dosrius-commemora-la-diada-nacional-de-catalunya.html
CLASS:PUBLIC
END:VEVENT
END:VCALENDAR
