BEGIN:VCALENDAR
VERSION:2.0
CALSCALE:GREGORIAN
PRODID:-//Diputació de Barcelona//DibaCMS//EN
BEGIN:VEVENT
UID:3433
DTSTAMP:20260423T030915
DTSTART:20220907T080000
DTEND:20481002T000000
SUMMARY:El 15 de setembre torna el taller de ràdio, amb la música com a protagonista
LOCATION:
METHOD:PUBLISH
X-WR-CALNAME:dosrius@dosrius.cat
X-WR-TIMEZONE:Europe/Madrid
DESCRIPTION:Per a participar-hi cal trucar o enviar un missatge de WhatsApp al telèfon 673 002 613. 

URI:https://www.dosrius.cat/actualitat/noticies/el-15-de-setembre-torna-el-taller-de-radio-amb-la-musica-com-a-protagonista.html
CLASS:PUBLIC
END:VEVENT
END:VCALENDAR
