BEGIN:VCALENDAR
VERSION:2.0
CALSCALE:GREGORIAN
PRODID:-//Diputació de Barcelona//DibaCMS//EN
BEGIN:VEVENT
UID:3432
DTSTAMP:20260423T025859
DTSTART:20220906T080000
DTEND:20480925T000000
SUMMARY:Informació d’interès sobre les roses venudes durant el darrer Sant Jordi
LOCATION:
METHOD:PUBLISH
X-WR-CALNAME:dosrius@dosrius.cat
X-WR-TIMEZONE:Europe/Madrid
DESCRIPTION:L’Ajuntament lamenta les molèsties que s’hagin pogut ocasionar.

URI:https://www.dosrius.cat/actualitat/noticies/informacio-dinteres-sobre-les-roses-venudes-durant-el-darrer-sant-jordi.html
CLASS:PUBLIC
END:VEVENT
END:VCALENDAR
