BEGIN:VCALENDAR
VERSION:2.0
CALSCALE:GREGORIAN
PRODID:-//Diputació de Barcelona//DibaCMS//EN
BEGIN:VEVENT
UID:3431
DTSTAMP:20260423T042726
DTSTART:20220905T110000
DTEND:20480925T000000
SUMMARY:L’Escola Castell de Dosrius es posa a punt abans de l’inici del nou curs escolar
LOCATION:
METHOD:PUBLISH
X-WR-CALNAME:dosrius@dosrius.cat
X-WR-TIMEZONE:Europe/Madrid
DESCRIPTION:L’Ajuntament desitja a tots els alumnes, personal docent i comunitat educativa de tots els centres educatius del municipi un molt bon curs 2022-2023.

URI:https://www.dosrius.cat/actualitat/noticies/lescola-castell-de-dosrius-es-posa-a-punt-abans-de-linici-del-nou-curs-escolar.html
CLASS:PUBLIC
END:VEVENT
END:VCALENDAR
