BEGIN:VCALENDAR
VERSION:2.0
CALSCALE:GREGORIAN
PRODID:-//Diputació de Barcelona//DibaCMS//EN
BEGIN:VEVENT
UID:3430
DTSTAMP:20260423T030036
DTSTART:20220902T000000
DTEND:20480926T000000
SUMMARY:Molt bona participació a la Festa Major de Dosrius
LOCATION:
METHOD:PUBLISH
X-WR-CALNAME:dosrius@dosrius.cat
X-WR-TIMEZONE:Europe/Madrid
DESCRIPTION:L’Ajuntament felicita a la Comissió de Festes de Dosrius per l’èxit de la celebració. 

URI:https://www.dosrius.cat/actualitat/noticies/molt-bona-participacio-a-la-festa-major-de-dosrius.html
CLASS:PUBLIC
END:VEVENT
END:VCALENDAR
