BEGIN:VCALENDAR
VERSION:2.0
CALSCALE:GREGORIAN
PRODID:-//Diputació de Barcelona//DibaCMS//EN
BEGIN:VEVENT
UID:3429
DTSTAMP:20260423T043432
DTSTART:20220831T000000
DTEND:20480828T000000
SUMMARY:De l’1 de setembre al 31 de desembre es redueixen les tarifes del transport públic entre Dosrius i Mataró
LOCATION:
METHOD:PUBLISH
X-WR-CALNAME:dosrius@dosrius.cat
X-WR-TIMEZONE:Europe/Madrid
DESCRIPTION:A partir de l’1 de setembre el preu d’alguns abonaments i títols de transport estaran bonificats de manera que el seu cost serà inferior per l’usuari. 

URI:https://www.dosrius.cat/actualitat/noticies/de-l1-de-setembre-al-31-de-desembre-es-redueixen-les-tarifes-del-transport-public-entre-dosrius-i-mataro.html
CLASS:PUBLIC
END:VEVENT
END:VCALENDAR
