BEGIN:VCALENDAR
VERSION:2.0
CALSCALE:GREGORIAN
PRODID:-//Diputació de Barcelona//DibaCMS//EN
BEGIN:VEVENT
UID:3426
DTSTAMP:20260423T081926
DTSTART:20220630T110000
DTEND:20480612T000000
SUMMARY:Nova jornada de donació de sang a Dosrius. Comptem amb tu!
LOCATION:
METHOD:PUBLISH
X-WR-CALNAME:dosrius@dosrius.cat
X-WR-TIMEZONE:Europe/Madrid
DESCRIPTION:Dijous 7 de juliol es podrà donar sang a la Sala de Plens de l’Ajuntament de 10 a 14 h i de 17 a 21 h.

URI:https://www.dosrius.cat/actualitat/noticies/3426-nova-jornada-de-donacio-de-sang-a-dosrius-comptem-amb-tu.html
CLASS:PUBLIC
END:VEVENT
END:VCALENDAR
