BEGIN:VCALENDAR
VERSION:2.0
CALSCALE:GREGORIAN
PRODID:-//Diputació de Barcelona//DibaCMS//EN
BEGIN:VEVENT
UID:3425
DTSTAMP:20260423T043411
DTSTART:20220824T110000
DTEND:20480820T230000
SUMMARY:Afectacions en l’horari de recollida de residus a Dosrius 
LOCATION:
METHOD:PUBLISH
X-WR-CALNAME:dosrius@dosrius.cat
X-WR-TIMEZONE:Europe/Madrid
DESCRIPTION:L’Ajuntament agraeix la col·laboració i la comprensió dels veïns i veïnes.

URI:https://www.dosrius.cat/arees/medi-ambient/dosrius-residus/292-actualitat/afectacions-en-lhorari-de-recollida-de-residus-a-dosrius-.html
CLASS:PUBLIC
END:VEVENT
END:VCALENDAR
