BEGIN:VCALENDAR
VERSION:2.0
CALSCALE:GREGORIAN
PRODID:-//Diputació de Barcelona//DibaCMS//EN
BEGIN:VEVENT
UID:3424
DTSTAMP:20260423T025910
DTSTART:20220826T080000
DTEND:20480827T000000
SUMMARY:Atenció! Canvis en la programació de la Festa Major de Dosrius
LOCATION:
METHOD:PUBLISH
X-WR-CALNAME:dosrius@dosrius.cat
X-WR-TIMEZONE:Europe/Madrid
DESCRIPTION:L’Ajuntament demana disculpes per les molèsties que puguin provocar aquestes modificacions.

URI:https://www.dosrius.cat/actualitat/noticies/3424-atencio-canvis-en-la-programacio-de-la-festa-major-de-dosrius.html
CLASS:PUBLIC
END:VEVENT
END:VCALENDAR
