BEGIN:VCALENDAR
VERSION:2.0
CALSCALE:GREGORIAN
PRODID:-//Diputació de Barcelona//DibaCMS//EN
BEGIN:VEVENT
UID:3423
DTSTAMP:20260423T042711
DTSTART:20220823T070000
DTEND:20480821T000000
SUMMARY:Convocatòria de beques escolars per al curs 2022-2023
LOCATION:
METHOD:PUBLISH
X-WR-CALNAME:dosrius@dosrius.cat
X-WR-TIMEZONE:Europe/Madrid
DESCRIPTION:Els ajuts es poden sol·licitar del 25 d’agost al 16 de setembre a les oficines municipals o per via telemàtica.

URI:https://www.dosrius.cat/actualitat/noticies/convocatoria-de-beques-escolars-per-al-curs-2022-2023.html
CLASS:PUBLIC
END:VEVENT
END:VCALENDAR
