BEGIN:VCALENDAR
VERSION:2.0
CALSCALE:GREGORIAN
PRODID:-//Diputació de Barcelona//DibaCMS//EN
BEGIN:VEVENT
UID:3420
DTSTAMP:20260423T060508
DTSTART:20220801T000000
DTEND:20480820T000000
SUMMARY:Canyamars vibra amb la Festa Major!
LOCATION:
METHOD:PUBLISH
X-WR-CALNAME:dosrius@dosrius.cat
X-WR-TIMEZONE:Europe/Madrid
DESCRIPTION:L’Ajuntament felicita a la Comissió de Festes de Canyamars per l’èxit de la celebració. 

URI:https://www.dosrius.cat/actualitat/noticies/canyamars-vibra-amb-la-festa-major.html
CLASS:PUBLIC
END:VEVENT
END:VCALENDAR
