BEGIN:VCALENDAR
VERSION:2.0
CALSCALE:GREGORIAN
PRODID:-//Diputació de Barcelona//DibaCMS//EN
BEGIN:VEVENT
UID:3419
DTSTAMP:20260423T025951
DTSTART:20220803T000000
DTEND:20480815T000000
SUMMARY:El Consell Comarcal del Maresme convoca ajuts per a afavorir l’autoocupació dels majors de 45 anys
LOCATION:
METHOD:PUBLISH
X-WR-CALNAME:dosrius@dosrius.cat
X-WR-TIMEZONE:Europe/Madrid
DESCRIPTION:El termini per presentar les sol·licituds de forma telemàtica finalitza el 23 de setembre. 

URI:https://www.dosrius.cat/actualitat/noticies/el-consell-comarcal-del-maresme-convoca-ajuts-per-a-afavorir-lautoocupacio-dels-majors-de-45-anys.html
CLASS:PUBLIC
END:VEVENT
END:VCALENDAR
