BEGIN:VCALENDAR
VERSION:2.0
CALSCALE:GREGORIAN
PRODID:-//Diputació de Barcelona//DibaCMS//EN
BEGIN:VEVENT
UID:3418
DTSTAMP:20260423T030205
DTSTART:20220729T093000
DTEND:20480731T000000
SUMMARY:Obres d’asfaltat del camí d'accés de Can Massuet a Can Guinart
LOCATION:
METHOD:PUBLISH
X-WR-CALNAME:dosrius@dosrius.cat
X-WR-TIMEZONE:Europe/Madrid
DESCRIPTION:Els treballs es duran a terme el 29 de juliol i 1 d’agost i durant la seva execució provocaran talls intermitents per aquest accés al parc del Montnegre i el Corredor.

URI:https://www.dosrius.cat/actualitat/noticies/obres-dasfaltat-del-cami-dacces-de-can-massuet-a-can-guinart.html
CLASS:PUBLIC
END:VEVENT
END:VCALENDAR
