BEGIN:VCALENDAR
VERSION:2.0
CALSCALE:GREGORIAN
PRODID:-//Diputació de Barcelona//DibaCMS//EN
BEGIN:VEVENT
UID:3416
DTSTAMP:20260423T002625
DTSTART:20221104T080000
DTEND:20481225T000000
SUMMARY:El Bibliobús visitarà Dosrius el 7, 14, 21 i 28 de novembre
LOCATION:
METHOD:PUBLISH
X-WR-CALNAME:dosrius@dosrius.cat
X-WR-TIMEZONE:Europe/Madrid
DESCRIPTION:Els veïns i veïnes poden fer ús d'aquest servei en horari reduït, de 16 a 19 h.

URI:https://www.dosrius.cat/actualitat/noticies/el-bibliobus-visitara-dosrius-el-7-14-21-i-28-de-novembre.html
CLASS:PUBLIC
END:VEVENT
END:VCALENDAR
