BEGIN:VCALENDAR
VERSION:2.0
CALSCALE:GREGORIAN
PRODID:-//Diputació de Barcelona//DibaCMS//EN
BEGIN:VEVENT
UID:3392
DTSTAMP:20260423T064516
DTSTART:20220725T000000
DTEND:20480724T000000
SUMMARY:Èxit de participació en el Torneig 12 hores de Futsal Dosrius
LOCATION:
METHOD:PUBLISH
X-WR-CALNAME:dosrius@dosrius.cat
X-WR-TIMEZONE:Europe/Madrid
DESCRIPTION:L’Ajuntament felicita als guanyadors i agraeix la implicació de tots els participants i de l’entitat Futbol Sala Dosrius del Maresme.

URI:https://www.dosrius.cat/actualitat/noticies/exit-de-participacio-en-el-torneig-12-hores-de-futsal-dosrius.html
CLASS:PUBLIC
END:VEVENT
END:VCALENDAR
