BEGIN:VCALENDAR
VERSION:2.0
CALSCALE:GREGORIAN
PRODID:-//Diputació de Barcelona//DibaCMS//EN
BEGIN:VEVENT
UID:3391
DTSTAMP:20260423T043606
DTSTART:20220722T130000
DTEND:20480724T000000
SUMMARY:Atenció! Canvis en la programació de la Festa Major de Canyamars
LOCATION:
METHOD:PUBLISH
X-WR-CALNAME:dosrius@dosrius.cat
X-WR-TIMEZONE:Europe/Madrid
DESCRIPTION:L’Ajuntament demana disculpes per les molèsties que puguin provocar aquestes modificacions.

URI:https://www.dosrius.cat/actualitat/noticies/atencio-canvis-en-la-programacio-de-la-festa-major-de-canyamars.html
CLASS:PUBLIC
END:VEVENT
END:VCALENDAR
