BEGIN:VCALENDAR
VERSION:2.0
CALSCALE:GREGORIAN
PRODID:-//Diputació de Barcelona//DibaCMS//EN
BEGIN:VEVENT
UID:3390
DTSTAMP:20260423T032850
DTSTART:20220726T080000
DTEND:20480724T000000
SUMMARY:L’Ajuntament activa la campanya “No és no” per unes festes majors lliures de sexismes i violències masclistes!
LOCATION:
METHOD:PUBLISH
X-WR-CALNAME:dosrius@dosrius.cat
X-WR-TIMEZONE:Europe/Madrid
DESCRIPTION:El Punt Lila, les Comissions de Festes, els cossos de seguretat i els serveis sanitaris estaran a disposició de la població per a oferir la seva ajuda en cas de necessitat. 

URI:https://www.dosrius.cat/actualitat/noticies/lajuntament-activa-la-campanya-no-es-no-per-unes-festes-majors-lliures-de-sexismes-i-violencies-masclistes.html
CLASS:PUBLIC
END:VEVENT
END:VCALENDAR
