BEGIN:VCALENDAR
VERSION:2.0
CALSCALE:GREGORIAN
PRODID:-//Diputació de Barcelona//DibaCMS//EN
BEGIN:VEVENT
UID:3388
DTSTAMP:20260423T032532
DTSTART:20220721T160000
DTEND:20480717T000000
SUMMARY:La Generalitat activa a Dosrius el Pla Alfa de nivell 3 per alt risc d’incendi
LOCATION:
METHOD:PUBLISH
X-WR-CALNAME:dosrius@dosrius.cat
X-WR-TIMEZONE:Europe/Madrid
DESCRIPTION:Del 22 al 26 de juliol s’aplicaran diferents restriccions per a minimitzar el risc d’incendi i garantir el benestar de la població durant l’onada de calor.

URI:https://www.dosrius.cat/actualitat/noticies/la-generalitat-activa-a-dosrius-el-pla-alfa-de-nivell-3-per-alt-risc-dincendi.html
CLASS:PUBLIC
END:VEVENT
END:VCALENDAR
