BEGIN:VCALENDAR
VERSION:2.0
CALSCALE:GREGORIAN
PRODID:-//Diputació de Barcelona//DibaCMS//EN
BEGIN:VEVENT
UID:3387
DTSTAMP:20260423T032740
DTSTART:20220720T000000
DTEND:20480717T000000
SUMMARY:Ja es pot demanar l’ajut de 200€ per a les famílies i/o persones amb ingressos baixos i sense prestacions
LOCATION:
METHOD:PUBLISH
X-WR-CALNAME:dosrius@dosrius.cat
X-WR-TIMEZONE:Europe/Madrid
DESCRIPTION:La sol·licitud es pot fer a l’Agència Tributària i en cas de dubte podeu contactar amb l’àrea de Serveis Socials de l’Ajuntament. 

URI:https://www.dosrius.cat/actualitat/noticies/ja-es-pot-demanar-lajut-de-200eur-per-a-les-families-io-persones-amb-ingressos-baixos-i-sense-prestacions.html
CLASS:PUBLIC
END:VEVENT
END:VCALENDAR
