BEGIN:VCALENDAR
VERSION:2.0
CALSCALE:GREGORIAN
PRODID:-//Diputació de Barcelona//DibaCMS//EN
BEGIN:VEVENT
UID:3384
DTSTAMP:20260423T081849
DTSTART:20220825T080000
DTEND:20480724T000000
SUMMARY:Festa Major de Dosrius: del 25 al 28 d'agost
LOCATION:
METHOD:PUBLISH
X-WR-CALNAME:dosrius@dosrius.cat
X-WR-TIMEZONE:Europe/Madrid
DESCRIPTION:El nucli acollirà prop d’una trentena de propostes lúdiques i culturals per a tots els públics.

URI:https://www.dosrius.cat/actualitat/noticies/festa-major-de-dosrius-del-25-al-28-dagost.html
CLASS:PUBLIC
END:VEVENT
END:VCALENDAR
