BEGIN:VCALENDAR
VERSION:2.0
CALSCALE:GREGORIAN
PRODID:-//Diputació de Barcelona//DibaCMS//EN
BEGIN:VEVENT
UID:3382
DTSTAMP:20260423T031026
DTSTART:20220718T000000
DTEND:20480724T000000
SUMMARY:Ja tenim programa d’activitats de les festes majors d’aquest 2022!
LOCATION:
METHOD:PUBLISH
X-WR-CALNAME:dosrius@dosrius.cat
X-WR-TIMEZONE:Europe/Madrid
DESCRIPTION:Canyamars donarà el tret de sortida del 28 al 31 de juliol, Dosrius agafarà el relleu del 25 al 28 d’agost, i Can Massuet del Far clourà les celebracions del 23 al 25 de setembre. 

URI:https://www.dosrius.cat/actualitat/noticies/ja-tenim-programa-dactivitats-de-les-festes-majors-daquest-2022.html
CLASS:PUBLIC
END:VEVENT
END:VCALENDAR
