BEGIN:VCALENDAR
VERSION:2.0
CALSCALE:GREGORIAN
PRODID:-//Diputació de Barcelona//DibaCMS//EN
BEGIN:VEVENT
UID:3381
DTSTAMP:20260423T031640
DTSTART:20220714T000000
DTEND:20480731T000000
SUMMARY:Dates d’obertura de les farmàcies i farmacioles locals durant els mesos d’estiu
LOCATION:
METHOD:PUBLISH
X-WR-CALNAME:dosrius@dosrius.cat
X-WR-TIMEZONE:Europe/Madrid
DESCRIPTION:Les farmàcies Marina Martínez i Parés, així com les farmacioles de Canyamars i Can Massuet del Far, tancaran portes per vacances durant alguns dies.

URI:https://www.dosrius.cat/actualitat/noticies/dates-dobertura-de-les-farmacies-i-farmacioles-locals-durant-els-mesos-destiu.html
CLASS:PUBLIC
END:VEVENT
END:VCALENDAR
