BEGIN:VCALENDAR
VERSION:2.0
CALSCALE:GREGORIAN
PRODID:-//Diputació de Barcelona//DibaCMS//EN
BEGIN:VEVENT
UID:3372
DTSTAMP:20260423T043801
DTSTART:20220708T080000
DTEND:20480220T000000
SUMMARY:Noves actuacions de millora a la via pública
LOCATION:
METHOD:PUBLISH
X-WR-CALNAME:dosrius@dosrius.cat
X-WR-TIMEZONE:Europe/Madrid
DESCRIPTION:Al llarg dels darrers dies l’Ajuntament ha actuat en diferents punts del municipi per arranjar desperfectes i dur a terme noves obres.

URI:https://www.dosrius.cat/actualitat/noticies/3372-noves-actuacions-de-millora-a-la-via-publica.html
CLASS:PUBLIC
END:VEVENT
END:VCALENDAR
