BEGIN:VCALENDAR
VERSION:2.0
CALSCALE:GREGORIAN
PRODID:-//Diputació de Barcelona//DibaCMS//EN
BEGIN:VEVENT
UID:3370
DTSTAMP:20260423T072616
DTSTART:20220706T110000
DTEND:20480724T000000
SUMMARY:Oberta la convocatòria dels ajuts al lloguer 2022
LOCATION:
METHOD:PUBLISH
X-WR-CALNAME:dosrius@dosrius.cat
X-WR-TIMEZONE:Europe/Madrid
DESCRIPTION:El termini per presentar les sol·licituds finalitza el 15 de juliol.

URI:https://www.dosrius.cat/actualitat/noticies/oberta-la-convocatoria-dels-ajuts-al-lloguer-2022.html
CLASS:PUBLIC
END:VEVENT
END:VCALENDAR
