BEGIN:VCALENDAR
VERSION:2.0
CALSCALE:GREGORIAN
PRODID:-//Diputació de Barcelona//DibaCMS//EN
BEGIN:VEVENT
UID:3368
DTSTAMP:20260423T041853
DTSTART:20220705T080000
DTEND:20481218T000000
SUMMARY:7 de juliol: Ple municipal ordinari
LOCATION:
METHOD:PUBLISH
X-WR-CALNAME:dosrius@dosrius.cat
X-WR-TIMEZONE:Europe/Madrid
DESCRIPTION:La sessió tindrà lloc per via telemàtica a les 09.30 h i es podrà seguir en directe a través del canal de YouTube de l'Ajuntament.

URI:https://www.dosrius.cat/actualitat/noticies/7-de-juliol-ple-municipal-ordinari.html
CLASS:PUBLIC
END:VEVENT
END:VCALENDAR
