BEGIN:VCALENDAR
VERSION:2.0
CALSCALE:GREGORIAN
PRODID:-//Diputació de Barcelona//DibaCMS//EN
BEGIN:VEVENT
UID:3360
DTSTAMP:20260423T095055
DTSTART:20220623T170000
DTEND:20480626T000000
SUMMARY:Finalitzen les obres al sistema d’evacuació d’aigües pluvials dels carrers Sant Llop i Pau Casals
LOCATION:
METHOD:PUBLISH
X-WR-CALNAME:dosrius@dosrius.cat
X-WR-TIMEZONE:Europe/Madrid
DESCRIPTION:L’Ajuntament agraeix la comprensió i la col·laboració dels veïns i veïnes durant el desenvolupament dels treballs.

URI:https://www.dosrius.cat/actualitat/noticies/finalitzen-les-obres-al-sistema-devacuacio-daigues-pluvials-dels-carrers-sant-llop-i-pau-casals.html
CLASS:PUBLIC
END:VEVENT
END:VCALENDAR
