BEGIN:VCALENDAR
VERSION:2.0
CALSCALE:GREGORIAN
PRODID:-//Diputació de Barcelona//DibaCMS//EN
BEGIN:VEVENT
UID:3357
DTSTAMP:20260423T120222
DTSTART:20220621T080000
DTEND:20480627T000000
SUMMARY:Cantada d’havaneres i lliurament de premis del Concurs Literari Esteve Albert a la plaça del Pla de la Calma
LOCATION:
METHOD:PUBLISH
X-WR-CALNAME:dosrius@dosrius.cat
X-WR-TIMEZONE:Europe/Madrid
DESCRIPTION:La trobada tindrà lloc el dissabte 2 de juliol.

URI:https://www.dosrius.cat/actualitat/noticies/cantada-dhavaneres-i-lliurament-de-premis-del-concurs-literari-esteve-albert-a-la-placa-del-pla-de-la-calma.html
CLASS:PUBLIC
END:VEVENT
END:VCALENDAR
