BEGIN:VCALENDAR
VERSION:2.0
CALSCALE:GREGORIAN
PRODID:-//Diputació de Barcelona//DibaCMS//EN
BEGIN:VEVENT
UID:3354
DTSTAMP:20260423T074309
DTSTART:20220616T190000
DTEND:20480626T210000
SUMMARY:Incidència al carrer de la Roca, a Can Massuet del Far
LOCATION:
METHOD:PUBLISH
X-WR-CALNAME:dosrius@dosrius.cat
X-WR-TIMEZONE:Europe/Madrid
DESCRIPTION:Els treballs de substitució de tot el cablejat és previst que finalitzin a mitjans de la pròxima setmana.

URI:https://www.dosrius.cat/actualitat/noticies/incidencia-al-carrer-de-la-roca-a-can-massuet-del-far.html
CLASS:PUBLIC
END:VEVENT
END:VCALENDAR
