BEGIN:VCALENDAR
VERSION:2.0
CALSCALE:GREGORIAN
PRODID:-//Diputació de Barcelona//DibaCMS//EN
BEGIN:VEVENT
UID:3326
DTSTAMP:20260423T081732
DTSTART:20220613T110000
DTEND:20230613T000000
SUMMARY:Esport, natura i solidaritat es donen la mà a la Zona Esportiva de Can Massuet del Far
LOCATION:
METHOD:PUBLISH
X-WR-CALNAME:dosrius@dosrius.cat
X-WR-TIMEZONE:Europe/Madrid
DESCRIPTION:L’Ajuntament de Dosrius felicita a l’Escuela de Padel de Dosrius i El Trencat Dosrius per l’èxit organitzatiu i de convocatòria del torneig benèfic de pàdel.

URI:https://www.dosrius.cat/actualitat/noticies/esport-natura-i-solidaritat-es-donen-la-ma-a-la-zona-esportiva-de-can-massuet-del-far.html
CLASS:PUBLIC
END:VEVENT
END:VCALENDAR
