BEGIN:VCALENDAR
VERSION:2.0
CALSCALE:GREGORIAN
PRODID:-//Diputació de Barcelona//DibaCMS//EN
BEGIN:VEVENT
UID:3322
DTSTAMP:20260423T060407
DTSTART:20220608T080000
DTEND:20480619T000000
SUMMARY:L’Ajuntament de Dosrius i Creu Roja refermen la seva col·laboració
LOCATION:
METHOD:PUBLISH
X-WR-CALNAME:dosrius@dosrius.cat
X-WR-TIMEZONE:Europe/Madrid
DESCRIPTION:El consistori destinarà una partida de 8.000€ per a potenciar i reforçar el suport i l’ajuda que s’ofereix des de l’entitat a les persones i famílies més necessitades.

URI:https://www.dosrius.cat/actualitat/noticies/lajuntament-de-dosrius-i-creu-roja-refermen-la-seva-collaboracio.html
CLASS:PUBLIC
END:VEVENT
END:VCALENDAR
