BEGIN:VCALENDAR
VERSION:2.0
CALSCALE:GREGORIAN
PRODID:-//Diputació de Barcelona//DibaCMS//EN
BEGIN:VEVENT
UID:3318
DTSTAMP:20260423T072639
DTSTART:20220603T130000
DTEND:20480619T000000
SUMMARY:Dosrius celebra per primer cop el Dia de la Policia Local
LOCATION:
METHOD:PUBLISH
X-WR-CALNAME:dosrius@dosrius.cat
X-WR-TIMEZONE:Europe/Madrid
DESCRIPTION:L’acte tenia com a objectiu condecorar i felicitar als cossos de seguretat, protecció civil, entitats i particulars per actes realitzats d’especial rellevància.

URI:https://www.dosrius.cat/actualitat/noticies/dosrius-celebra-per-primer-cop-el-dia-de-la-policia-local.html
CLASS:PUBLIC
END:VEVENT
END:VCALENDAR
