BEGIN:VCALENDAR
VERSION:2.0
CALSCALE:GREGORIAN
PRODID:-//Diputació de Barcelona//DibaCMS//EN
BEGIN:VEVENT
UID:3317
DTSTAMP:20260423T073215
DTSTART:20220603T110000
DTEND:20480618T000000
SUMMARY:Dosrius acull amb un èxit absolut la Copa Catalunya d’Agility 2022 
LOCATION:
METHOD:PUBLISH
X-WR-CALNAME:dosrius@dosrius.cat
X-WR-TIMEZONE:Europe/Madrid
DESCRIPTION:L’Ajuntament felicita a l’Almozara Can Bosc Club Caní i a la Federació Catalana d’Agility per l’excel·lent organització i desenvolupament d’aquesta competició esportiva de màxim nivell celebrada a casa nostra.

URI:https://www.dosrius.cat/actualitat/noticies/dosrius-acull-amb-un-exit-absolut-la-copa-catalunya-dagility-2022-.html
CLASS:PUBLIC
END:VEVENT
END:VCALENDAR
