BEGIN:VCALENDAR
VERSION:2.0
CALSCALE:GREGORIAN
PRODID:-//Diputació de Barcelona//DibaCMS//EN
BEGIN:VEVENT
UID:3314
DTSTAMP:20260423T043734
DTSTART:20220601T080000
DTEND:20480522T235500
SUMMARY:Oberta la inscripció als tallers de gravat i de cal·ligrafia
LOCATION:
METHOD:PUBLISH
X-WR-CALNAME:dosrius@dosrius.cat
X-WR-TIMEZONE:Europe/Madrid
DESCRIPTION:L’Arxiu Municipal de Dosrius durà a terme dos tallers gratuïts en el marc dels actes organitzats durant la Setmana Internacional dels Arxius #SIA2022.

URI:https://www.dosrius.cat/actualitat/noticies/oberta-la-inscripcio-als-tallers-de-gravat-i-de-calligrafia.html
CLASS:PUBLIC
END:VEVENT
END:VCALENDAR
