BEGIN:VCALENDAR
VERSION:2.0
CALSCALE:GREGORIAN
PRODID:-//Diputació de Barcelona//DibaCMS//EN
BEGIN:VEVENT
UID:3312
DTSTAMP:20260423T030625
DTSTART:20220715T070000
DTEND:20480515T000000
SUMMARY:Nova edició del Concurs Fotogràfic de Dosrius, Canyamars i El Far
LOCATION:
METHOD:PUBLISH
X-WR-CALNAME:dosrius@dosrius.cat
X-WR-TIMEZONE:Europe/Madrid
DESCRIPTION:Les fotografies es poden presentar fins el 30 d’octubre. 

URI:https://www.dosrius.cat/actualitat/noticies/nova-edicio-del-concurs-fotografic-de-dosrius-canyamars-i-el-far.html
CLASS:PUBLIC
END:VEVENT
END:VCALENDAR
