BEGIN:VCALENDAR
VERSION:2.0
CALSCALE:GREGORIAN
PRODID:-//Diputació de Barcelona//DibaCMS//EN
BEGIN:VEVENT
UID:3309
DTSTAMP:20260423T122805
DTSTART:20220525T000000
DTEND:20230526T000000
SUMMARY:Sortida dels Localets a Cotlliure
LOCATION:
METHOD:PUBLISH
X-WR-CALNAME:dosrius@dosrius.cat
X-WR-TIMEZONE:Europe/Madrid
DESCRIPTION:L’activitat tindrà lloc el 29 de juny i per a participar-hi cal inscriure’s prèviament trucant al telèfon 93 791 80 14.

URI:https://www.dosrius.cat/actualitat/noticies/sortida-dels-localets-a-cotlliure.html
CLASS:PUBLIC
END:VEVENT
END:VCALENDAR
