BEGIN:VCALENDAR
VERSION:2.0
CALSCALE:GREGORIAN
PRODID:-//Diputació de Barcelona//DibaCMS//EN
BEGIN:VEVENT
UID:3305
DTSTAMP:20260423T141856
DTSTART:20220523T140000
DTEND:20230523T000000
SUMMARY:Gaudeix de l’estiu amb Els Localets
LOCATION:
METHOD:PUBLISH
X-WR-CALNAME:dosrius@dosrius.cat
X-WR-TIMEZONE:Europe/Madrid
DESCRIPTION:Del 4 al 29 de juliol s’oferiran activitats com Aigua gym, Country i Ioga del riure. 

URI:https://www.dosrius.cat/actualitat/noticies/gaudeix-de-lestiu-amb-els-localets.html
CLASS:PUBLIC
END:VEVENT
END:VCALENDAR
