BEGIN:VCALENDAR
VERSION:2.0
CALSCALE:GREGORIAN
PRODID:-//Diputació de Barcelona//DibaCMS//EN
BEGIN:VEVENT
UID:3299
DTSTAMP:20260423T073157
DTSTART:20220516T180000
DTEND:20480522T235500
SUMMARY:Creat el Centre d’Estudis Esteve Albert i Corp a Dosrius
LOCATION:
METHOD:PUBLISH
X-WR-CALNAME:dosrius@dosrius.cat
X-WR-TIMEZONE:Europe/Madrid
DESCRIPTION:Es dedicarà a la recerca i divulgació de la història i el patrimoni cultural i ambiental, a més de la figura del dosriuenc il·lustre.

URI:https://www.dosrius.cat/actualitat/noticies/creat-el-centre-destudis-esteve-albert-i-corp-a-dosrius.html
CLASS:PUBLIC
END:VEVENT
END:VCALENDAR
