BEGIN:VCALENDAR
VERSION:2.0
CALSCALE:GREGORIAN
PRODID:-//Diputació de Barcelona//DibaCMS//EN
BEGIN:VEVENT
UID:3297
DTSTAMP:20260423T045001
DTSTART:20220516T130000
DTEND:20480522T000000
SUMMARY:Consulta l’oferta de places pel curs 2022/2023 a l’EBM La Caseta del Bosc de Can Martorell
LOCATION:
METHOD:PUBLISH
X-WR-CALNAME:dosrius@dosrius.cat
X-WR-TIMEZONE:Europe/Madrid
DESCRIPTION:Per a més informació podeu trucar al telèfon 937 919 364 o enviar un correu electrònic a l’adreça ebm.casetadelbosc@peretarres.org.

URI:https://www.dosrius.cat/actualitat/noticies/consulta-loferta-de-places-pel-curs-20222023-a-lebm-la-caseta-del-bosc-de-can-martorell.html
CLASS:PUBLIC
END:VEVENT
END:VCALENDAR
