BEGIN:VCALENDAR
VERSION:2.0
CALSCALE:GREGORIAN
PRODID:-//Diputació de Barcelona//DibaCMS//EN
BEGIN:VEVENT
UID:3291
DTSTAMP:20260423T072428
DTSTART:20220516T000000
DTEND:20480516T000000
SUMMARY:L’Arxiu Municipal treballa en la restauració del plànol cadastral rústic
LOCATION:
METHOD:PUBLISH
X-WR-CALNAME:dosrius@dosrius.cat
X-WR-TIMEZONE:Europe/Madrid
DESCRIPTION:En total s’està actuant sobre 38 documents que presentaven un mal estat de conservació. 

URI:https://www.dosrius.cat/actualitat/noticies/larxiu-municipal-treballa-en-la-restauracio-del-planol-cadastral-rustic.html
CLASS:PUBLIC
END:VEVENT
END:VCALENDAR
