BEGIN:VCALENDAR
VERSION:2.0
CALSCALE:GREGORIAN
PRODID:-//Diputació de Barcelona//DibaCMS//EN
BEGIN:VEVENT
UID:3287
DTSTAMP:20260423T045150
DTSTART:20220512T080000
DTEND:20480514T000000
SUMMARY:L’Ajuntament de Dosrius obté el Segell InfoParticipa
LOCATION:
METHOD:PUBLISH
X-WR-CALNAME:dosrius@dosrius.cat
X-WR-TIMEZONE:Europe/Madrid
DESCRIPTION:El consistori obté aquesta distinció que premia la transparència de la pàgina web municipal, amb un 92% de compliment dels 52 indicadors establerts.

URI:https://www.dosrius.cat/actualitat/noticies/lajuntament-de-dosrius-obte-el-segell-infoparticipa.html
CLASS:PUBLIC
END:VEVENT
END:VCALENDAR
