BEGIN:VCALENDAR
VERSION:2.0
CALSCALE:GREGORIAN
PRODID:-//Diputació de Barcelona//DibaCMS//EN
BEGIN:VEVENT
UID:3262
DTSTAMP:20260423T045034
DTSTART:20220428T160000
DTEND:20480417T000000
SUMMARY:Nou taller de cuina el 5 de maig, amb dinar inclòs!
LOCATION:
METHOD:PUBLISH
X-WR-CALNAME:dosrius@dosrius.cat
X-WR-TIMEZONE:Europe/Madrid
DESCRIPTION:Les places són limitades i per a participar-hi cal inscriure’s abans del 3 de maig trucant al telèfon de l’Ajuntament de Dosrius, 937 91 80 14.

URI:https://www.dosrius.cat/actualitat/noticies/nou-taller-de-cuina-el-5-de-maig-amb-dinar-inclos.html
CLASS:PUBLIC
END:VEVENT
END:VCALENDAR
