BEGIN:VCALENDAR
VERSION:2.0
CALSCALE:GREGORIAN
PRODID:-//Diputació de Barcelona//DibaCMS//EN
BEGIN:VEVENT
UID:3261
DTSTAMP:20260423T061238
DTSTART:20220509T080000
DTEND:20480423T220000
SUMMARY:Convocatòria de les beques de menjador escolar per al curs 2022/2023
LOCATION:
METHOD:PUBLISH
X-WR-CALNAME:dosrius@dosrius.cat
X-WR-TIMEZONE:Europe/Madrid
DESCRIPTION:El termini de presentació de sol·licituds comença el 9 de maig i finalitza el 10 de juny.

URI:https://www.dosrius.cat/actualitat/noticies/convocatoria-de-les-beques-de-menjador-escolar-per-al-curs-20222023.html
CLASS:PUBLIC
END:VEVENT
END:VCALENDAR
