BEGIN:VCALENDAR
VERSION:2.0
CALSCALE:GREGORIAN
PRODID:-//Diputació de Barcelona//DibaCMS//EN
BEGIN:VEVENT
UID:3228
DTSTAMP:20260423T060342
DTSTART:20220422T120000
DTEND:20480424T000000
SUMMARY:Atenció! La diada de Sant Jordi es trasllada al Poliesportiu de Dosrius pel risc de pluja
LOCATION:
METHOD:PUBLISH
X-WR-CALNAME:dosrius@dosrius.cat
X-WR-TIMEZONE:Europe/Madrid
DESCRIPTION:També es modifica l'horari d'inici de les activitats, que s'endarrereix fins a les 10.30 h.

URI:https://www.dosrius.cat/actualitat/noticies/atencio-la-diada-de-sant-jordi-es-trasllada-al-poliesportiu-de-dosrius-pel-risc-de-pluja.html
CLASS:PUBLIC
END:VEVENT
END:VCALENDAR
