BEGIN:VCALENDAR
VERSION:2.0
CALSCALE:GREGORIAN
PRODID:-//Diputació de Barcelona//DibaCMS//EN
BEGIN:VEVENT
UID:3227
DTSTAMP:20260423T045108
DTSTART:20220428T080000
DTEND:20480424T000000
SUMMARY:L’Ajuntament publica el nou mapa urbanístic del municipi
LOCATION:
METHOD:PUBLISH
X-WR-CALNAME:dosrius@dosrius.cat
X-WR-TIMEZONE:Europe/Madrid
DESCRIPTION:El plànol es pot consultar a través del següent enllaç.

URI:https://www.dosrius.cat/actualitat/noticies/lajuntament-publica-el-nou-mapa-urbanistic-del-municipi.html
CLASS:PUBLIC
END:VEVENT
END:VCALENDAR
