BEGIN:VCALENDAR
VERSION:2.0
CALSCALE:GREGORIAN
PRODID:-//Diputació de Barcelona//DibaCMS//EN
BEGIN:VEVENT
UID:3225
DTSTAMP:20260423T045231
DTSTART:20220421T130000
DTEND:20480417T000000
SUMMARY:Girona, temps de flors: nova sortida dels Localets el 10 de maig!
LOCATION:
METHOD:PUBLISH
X-WR-CALNAME:dosrius@dosrius.cat
X-WR-TIMEZONE:Europe/Madrid
DESCRIPTION:L’activitat consistirà en un esmorzar, una visita al Casc Antic de Girona, un dinar i una sobretaula amb ball.

URI:https://www.dosrius.cat/actualitat/noticies/girona-temps-de-flors-nova-sortida-dels-localets-el-10-de-maig.html
CLASS:PUBLIC
END:VEVENT
END:VCALENDAR
